{ "currentVersion": 11.3, "serviceDescription": "
The Designated Industrial Zone project taking place in Alberta's Industrial Heartland, supports a Government commitment to work with Municipalities and Industry to enhance regulatory efficiency across the lifecycle of approvals, optimize cluster infrastructure, while achieving environmental outcomes.<\/SPAN><\/SPAN><\/P> The primary aims of the IH-DIZ study are:<\/SPAN><\/SPAN><\/P> To establish baseline conditions for valued components (VCs)<\/SPAN><\/SPAN><\/P><\/LI> Reduce time and effort necessary to fulfill project-specific requirements for discretionary and mandatory EIAs for new applications<\/SPAN><\/SPAN><\/P><\/LI> Create regulatory efficiency benefits through collecting and sharing important baseline information to support the development and review of provincial environmental impact assessments, and review of regulatory applications, in the IH-DIZ.<\/SPAN><\/SPAN><\/P><\/LI><\/UL><\/DIV><\/DIV><\/DIV>",
"name": "Hydrogeology_Processed/geology_empress_base",
"description": " The Designated Industrial Zone project taking place in Alberta's Industrial Heartland, supports a Government commitment to work with Municipalities and Industry to enhance regulatory efficiency across the lifecycle of approvals, optimize cluster infrastructure, while achieving environmental outcomes.<\/SPAN><\/SPAN><\/P> The primary aims of the IH-DIZ study are:<\/SPAN><\/SPAN><\/P> To establish baseline conditions for valued components (VCs)<\/SPAN><\/SPAN><\/P><\/LI> Reduce time and effort necessary to fulfill project-specific requirements for discretionary and mandatory EIAs for new applications<\/SPAN><\/SPAN><\/P><\/LI> Create regulatory efficiency benefits through collecting and sharing important baseline information to support the development and review of provincial environmental impact assessments, and review of regulatory applications, in the IH-DIZ.<\/SPAN><\/SPAN><\/P><\/LI><\/UL><\/DIV><\/DIV><\/DIV>",
"extent": {
"xmin": 581039.28870552,
"ymin": 5915971.5461678,
"xmax": 664139.28870552,
"ymax": 5994971.5461678,
"spatialReference": {
"wkid": 102184,
"latestWkid": 3400
}
},
"initialExtent": {
"xmin": 581039.28870552,
"ymin": 5915971.5461678,
"xmax": 664139.28870552,
"ymax": 5994971.5461678,
"spatialReference": {
"wkid": 102184,
"latestWkid": 3400
}
},
"fullExtent": {
"xmin": 581039.28870552,
"ymin": 5915971.5461678,
"xmax": 664139.28870552,
"ymax": 5994971.5461678,
"spatialReference": {
"wkid": 102184,
"latestWkid": 3400
}
},
"sortableFields": "",
"bandCount": 1,
"pixelType": "F32",
"minValues": [
545.1494140625
],
"maxValues": [
999
],
"meanValues": [
960.0111556097803
],
"stdvValues": [
118.71227244599648
],
"hasMultidimensions": false,
"pixelSizeX": 100,
"pixelSizeY": 100,
"meanPixelSize": 100,
"datasetFormat": "FGDBR",
"uncompressedSize": 2625960,
"blockWidth": 128,
"blockHeight": 128,
"compressionType": "LZ77",
"bandNames": [
"Band_1"
],
"allowCopy": true,
"allowAnalysis": true,
"itemAccess": false,
"inspectionCapabilities": "",
"minPixelSize": 0,
"maxPixelSize": 0,
"copyrightText": "Data collected by Stantec Consulting Ltd.",
"serviceDataType": "esriImageServiceDataTypeGeneric",
"serviceSourceType": "esriImageServiceSourceTypeDataset",
"objectIdField": "",
"fields": [],
"capabilities": "Image,Metadata,Mensuration",
"defaultMosaicMethod": "Center",
"allowedMosaicMethods": "",
"sortField": "",
"sortValue": null,
"sortAscending": true,
"mosaicOperator": "First",
"defaultCompressionQuality": 75,
"defaultResamplingMethod": "Bilinear",
"maxImageHeight": 4100,
"maxImageWidth": 15000,
"allowRasterFunction": true,
"rasterFunctionInfos": [
{
"name": "None",
"description": "",
"help": ""
}
],
"rasterTypeInfos": [
{
"name": "Raster Dataset",
"description": "Supports all ArcGIS Raster Datasets",
"help": ""
}
],
"mensurationCapabilities": "Basic",
"hasHistograms": true,
"hasColormap": false,
"hasRasterAttributeTable": false,
"minScale": 0,
"maxScale": 0,
"exportTilesAllowed": false,
"supportsStatistics": false,
"supportsAdvancedQueries": false,
"editFieldsInfo": null,
"ownershipBasedAccessControlForRasters": null,
"allowComputeTiePoints": false,
"useStandardizedQueries": true,
"advancedQueryCapabilities": {
"useStandardizedQueries": true,
"supportsStatistics": false,
"supportsOrderBy": false,
"supportsDistinct": false,
"supportsPagination": false
},
"spatialReference": {
"wkid": 102184,
"latestWkid": 3400
}
}