<?xml version="1.0" encoding="UTF-8" standalone="no"?>
<metadata xml:lang="en">
<Esri>
<CreaDate>20170818</CreaDate>
<CreaTime>15471700</CreaTime>
<ArcGISFormat>1.0</ArcGISFormat>
<ArcGISstyle>Item Description</ArcGISstyle>
<SyncOnce>FALSE</SyncOnce>
<DataProperties>
<lineage>
<Process Date="20130724" Name="" Time="163115" ToolSource="e:\bin\arcgis\desktop10.0\ArcToolbox\Toolboxes\Data Management Tools.tbx\CreateMosaicDataset" export="">CreateMosaicDataset "\\oxpgisew01\GIS-FS\Mosaic Datasets.gdb" RGB_AERIAL_SOUTHERN_ALBERTA_FLOOD_2013_20130724 "PROJCS['NAD_1983_10TM_AEP_Forest',GEOGCS['GCS_North_American_1983',DATUM['D_North_American_1983',SPHEROID['GRS_1980',6378137.0,298.257222101]],PRIMEM['Greenwich',0.0],UNIT['Degree',0.0174532925199433]],PROJECTION['Transverse_Mercator'],PARAMETER['False_Easting',500000.0],PARAMETER['False_Northing',0.0],PARAMETER['Central_Meridian',-115.0],PARAMETER['Scale_Factor',0.9992],PARAMETER['Latitude_Of_Origin',0.0],UNIT['Meter',1.0]];-5118700 -9994100 10000;-100000 10000;-100000 10000;0.001;0.001;0.001;IsHighPrecision" # #</Process>
<Process Date="20130724" Name="" Time="171651" ToolSource="e:\bin\arcgis\desktop10.0\ArcToolbox\Toolboxes\Data Management Tools.tbx\AddRastersToMosaicDataset" export="">AddRastersToMosaicDataset "\\oxpgisew01\GIS-FS\Mosaic Datasets.gdb\RGB_AERIAL_SOUTHERN_ALBERTA_FLOOD_2013_20130724" "Raster Dataset @ \\oxpgisew01\GIS-FS\Mosaic Datasets.gdb\RGB_AERIAL_SOUTHERN_ALBERTA_FLOOD_2013_20130724\RasterType.OBJECTID=1" '\\oxpgisew01\GIS-FS\Imagery\Aerial\Ortho\Colour\TIF-2013-Southern Alberta Flood-various\Orthoshop_Elbow_River_BraggCreek_to_Calgary\ORTHOMOSAIC';'\\oxpgisew01\GIS-FS\Imagery\Aerial\Ortho\Colour\TIF-2013-Southern Alberta Flood-various\Orthoshop_Highwood_River\ORTHOMOSAIC';'\\oxpgisew01\GIS-FS\Imagery\Aerial\Ortho\Colour\TIF-2013-Southern Alberta Flood-various\Orthoshop_Sheep_River\ORTHOMOSAIC' UPDATE_CELL_SIZES UPDATE_BOUNDARY NO_OVERVIEWS # 0 1500 "PROJCS['NAD_1983_CSRS_3TM_114',GEOGCS['GCS_North_American_1983_CSRS',DATUM['D_North_American_1983_CSRS',SPHEROID['GRS_1980',6378137.0,298.257222101]],PRIMEM['Greenwich',0.0],UNIT['Degree',0.0174532925199433]],PROJECTION['Transverse_Mercator'],PARAMETER['False_Easting',0.0],PARAMETER['False_Northing',0.0],PARAMETER['Central_Meridian',-114.0],PARAMETER['Scale_Factor',0.9999],PARAMETER['Latitude_Of_Origin',0.0],UNIT['Meter',1.0]];-5622600 -10001100 10000;-100000 10000;-100000 10000;0.001;0.001;0.001;IsHighPrecision" *.tif SUBFOLDERS ALLOW_DUPLICATES NO_PYRAMIDS CALCULATE_STATISTICS BUILD_THUMBNAILS #</Process>
<Process Date="20130725" Name="" Time="123001" ToolSource="e:\bin\arcgis\desktop10.0\ArcToolbox\Toolboxes\Data Management Tools.tbx\AddRastersToMosaicDataset" export="">AddRastersToMosaicDataset "\\oxpgisew01\GIS-FS\Mosaic Datasets.gdb\RGB_AERIAL_SOUTHERN_ALBERTA_FLOOD_2013_20130724" "Raster Dataset @ \\oxpgisew01\GIS-FS\Mosaic Datasets.gdb\RGB_AERIAL_SOUTHERN_ALBERTA_FLOOD_2013_20130724\RasterType.OBJECTID=2" '\\oxpgisew01\GIS-FS\Imagery\Aerial\Ortho\Colour\TIF-2013-Southern Alberta Flood-various\NWG_South_Saskatchewan_River\South_Saskatchewan_River_8bit_z12_RGBN_Tiles' UPDATE_CELL_SIZES UPDATE_BOUNDARY NO_OVERVIEWS # 0 1500 "PROJCS['NAD_1983_UTM_Zone_12N',GEOGCS['GCS_North_American_1983',DATUM['D_North_American_1983',SPHEROID['GRS_1980',6378137.0,298.257222101]],PRIMEM['Greenwich',0.0],UNIT['Degree',0.0174532925199433]],PROJECTION['Transverse_Mercator'],PARAMETER['False_Easting',500000.0],PARAMETER['False_Northing',0.0],PARAMETER['Central_Meridian',-111.0],PARAMETER['Scale_Factor',0.9996],PARAMETER['Latitude_Of_Origin',0.0],UNIT['Meter',1.0]];-5120900 -9998100 450445547.391054;-100000 10000;-100000 10000;0.001;0.001;0.001;IsHighPrecision" *.tif SUBFOLDERS ALLOW_DUPLICATES NO_PYRAMIDS CALCULATE_STATISTICS BUILD_THUMBNAILS #</Process>
<Process Date="20130725" Name="" Time="204635" ToolSource="e:\bin\arcgis\desktop10.0\ArcToolbox\Toolboxes\Data Management Tools.tbx\AddRastersToMosaicDataset" export="">AddRastersToMosaicDataset "\\oxpgisew01\GIS-FS\Mosaic Datasets.gdb\RGB_AERIAL_SOUTHERN_ALBERTA_FLOOD_2013_20130724" "Raster Dataset @ \\oxpgisew01\GIS-FS\Mosaic Datasets.gdb\RGB_AERIAL_SOUTHERN_ALBERTA_FLOOD_2013_20130724\RasterType.OBJECTID=3" '\\oxpgisew01\GIS-FS\Imagery\Aerial\Raw\RGBN\TIF-2013-Southern Alberta Flood-various\2013_505 Red Deer Flood Copy 3 - modified' UPDATE_CELL_SIZES UPDATE_BOUNDARY NO_OVERVIEWS # 0 1500 # *.tif SUBFOLDERS ALLOW_DUPLICATES NO_PYRAMIDS CALCULATE_STATISTICS BUILD_THUMBNAILS "Raw Images"</Process>
<Process Date="20130726" Name="" Time="002612" ToolSource="e:\bin\arcgis\desktop10.0\ArcToolbox\Toolboxes\Data Management Tools.tbx\AddRastersToMosaicDataset" export="">AddRastersToMosaicDataset "\\oxpgisew01\GIS-FS\Mosaic Datasets.gdb\RGB_AERIAL_SOUTHERN_ALBERTA_FLOOD_2013_20130724" "Raster Dataset @ \\oxpgisew01\GIS-FS\Mosaic Datasets.gdb\RGB_AERIAL_SOUTHERN_ALBERTA_FLOOD_2013_20130724\RasterType.OBJECTID=4" '\\oxpgisew01\GIS-FS\Imagery\Aerial\Ortho\Colour\TIF-2013-Southern Alberta Flood-various\Orthoshop_Bow_River_Calgary_to_Bassano\Calgary to Bassano Ortho TIF' UPDATE_CELL_SIZES UPDATE_BOUNDARY NO_OVERVIEWS # 0 1500 # *.tif SUBFOLDERS ALLOW_DUPLICATES NO_PYRAMIDS CALCULATE_STATISTICS BUILD_THUMBNAILS #</Process>
<Process Date="20130726" Name="" Time="120605" ToolSource="e:\bin\arcgis\desktop10.0\ArcToolbox\Toolboxes\Data Management Tools.tbx\AddRastersToMosaicDataset" export="">AddRastersToMosaicDataset "\\oxpgisew01\GIS-FS\Mosaic Datasets.gdb\RGB_AERIAL_SOUTHERN_ALBERTA_FLOOD_2013_20130724" "Raster Dataset @ \\oxpgisew01\GIS-FS\Mosaic Datasets.gdb\RGB_AERIAL_SOUTHERN_ALBERTA_FLOOD_2013_20130724\RasterType.OBJECTID=5" '\\oxpgisew01\GIS-FS\Imagery\Aerial\Ortho\Colour\TIF-2013-Southern Alberta Flood-various\Orthoshop_Bow_River_Calgary\ORTHOMOSAIC';'\\oxpgisew01\GIS-FS\Imagery\Aerial\Ortho\Colour\TIF-2013-Southern Alberta Flood-various\Orthoshop_Elbow_River_Calgary\ORTHOMOSAIC' UPDATE_CELL_SIZES UPDATE_BOUNDARY NO_OVERVIEWS # 0 1500 # *.tif SUBFOLDERS ALLOW_DUPLICATES NO_PYRAMIDS CALCULATE_STATISTICS BUILD_THUMBNAILS "Bow/Elbow in Calgary"</Process>
<Process Date="20130726" Name="" Time="121552" ToolSource="e:\bin\arcgis\desktop10.0\ArcToolbox\Toolboxes\Data Management Tools.tbx\DefineMosaicDatasetNoData" export="">DefineMosaicDatasetNoData "\\oxpgisew01\GIS-FS\Mosaic Datasets.gdb\RGB_AERIAL_SOUTHERN_ALBERTA_FLOOD_2013_20130724" 3 "ALL_BANDS 255" # #</Process>
<Process Date="20130726" Name="" Time="131023" ToolSource="e:\bin\arcgis\desktop10.0\ArcToolbox\Toolboxes\Data Management Tools.tbx\DefineOverviews" export="">DefineOverviews "\\oxpgisew01\GIS-FS\Mosaic Datasets.gdb\RGB_AERIAL_SOUTHERN_ALBERTA_FLOOD_2013_20130724" "\\oxpgisew01\GIS-FS\Mosaic Datasets.Overviews\RGB_AERIAL_SOUTHERN_ALBERTA_FLOOD_2013_20130724.Overviews" # "480787.2553 5527351.0099 820349.7177 5765056.5515" # # 5120 5120 3 NO_FORCE_OVERVIEW_TILES BILINEAR JPEG 80</Process>
<Process Date="20130726" Name="" Time="213542" ToolSource="e:\bin\arcgis\desktop10.0\ArcToolbox\Toolboxes\Data Management Tools.tbx\BuildOverviews" export="">BuildOverviews "\\oxpgisew01\GIS-FS\Mosaic Datasets.gdb\RGB_AERIAL_SOUTHERN_ALBERTA_FLOOD_2013_20130724" # NO_DEFINE_MISSING_TILES GENERATE_OVERVIEWS GENERATE_MISSING_IMAGES REGENERATE_STALE_IMAGES</Process>
<Process Date="20130730" Name="" Time="182508" ToolSource="e:\bin\arcgis\desktop10.0\ArcToolbox\Toolboxes\Data Management Tools.tbx\AddRastersToMosaicDataset" export="">AddRastersToMosaicDataset "\\oxpgisew01\GIS-FS\Mosaic Datasets.gdb\RGB_AERIAL_SOUTHERN_ALBERTA_FLOOD_2013_20130724" "Raster Dataset @ \\oxpgisew01\GIS-FS\Mosaic Datasets.gdb\RGB_AERIAL_SOUTHERN_ALBERTA_FLOOD_2013_20130724\RasterType.OBJECTID=7" '\\env.gov.ab.ca\genesis\GIS_Data1\Southern_Alberta_Flood_2013\Orthoshop_Bow_River_at_Banff\Banff Ortho TIF';'\\env.gov.ab.ca\genesis\GIS_Data1\Southern_Alberta_Flood_2013\Orthoshop_Bow_River_Seebe_to_Bearspaw\Bearspaw to Exshaw Ortho TIF' UPDATE_CELL_SIZES UPDATE_BOUNDARY NO_OVERVIEWS # 0 1500 # *.tif SUBFOLDERS ALLOW_DUPLICATES NO_PYRAMIDS CALCULATE_STATISTICS BUILD_THUMBNAILS #</Process>
<Process Date="20130730" Name="" Time="184140" ToolSource="e:\bin\arcgis\desktop10.0\ArcToolbox\Toolboxes\Data Management Tools.tbx\DefineOverviews" export="">DefineOverviews "\\oxpgisew01\GIS-FS\Mosaic Datasets.gdb\RGB_AERIAL_SOUTHERN_ALBERTA_FLOOD_2013_20130724" "\\oxpgisew01\GIS-FS\Mosaic Datasets.Overviews\RGB_AERIAL_SOUTHERN_ALBERTA_FLOOD_2013_20130724.Overviews" # "457532.0442 5527351.0099 820349.7177 5765056.5515" # # 5120 5120 3 NO_FORCE_OVERVIEW_TILES BILINEAR JPEG 80</Process>
<Process Date="20130731" Name="" Time="035651" ToolSource="e:\bin\arcgis\desktop10.0\ArcToolbox\Toolboxes\Data Management Tools.tbx\BuildOverviews" export="">BuildOverviews "\\oxpgisew01\GIS-FS\Mosaic Datasets.gdb\RGB_AERIAL_SOUTHERN_ALBERTA_FLOOD_2013_20130724" # NO_DEFINE_MISSING_TILES GENERATE_OVERVIEWS GENERATE_MISSING_IMAGES REGENERATE_STALE_IMAGES</Process>
<Process Date="20200215" Time="102611" ToolSource="d:\bin\desktop10.7\ArcToolbox\Toolboxes\Data Management Tools.tbx\RepairMosaicDatasetPaths">RepairMosaicDatasetPaths "\\goa\apps\GENESIS_Config\Resources\Connection Files\GENESIS-DB-Prod\GDB Account\Mosaic3.GDB@genesis-db.sde\Mosaic3.GDB.RGB_ORTHO_SOUTHERN_ALBERTA_FLOOD_2013_20170818" "# \\goa\apps\IMAGERY_PROD \\goa\apps\GENESIS_IMAGERY" #</Process>
</lineage>
<itemProps>
<itemName Sync="TRUE">Mosaic3.GDB.RGB_ORTHO_SOUTHERN_ALBERTA_FLOOD_2013_20170818</itemName>
<itemLocation>
<linkage Sync="TRUE">Server=genesis-db.int.gov.ab.ca; Service=sde:sqlserver:genesis-db.int.gov.ab.ca; Database=Mosaic3; User=Mosaic3.GDB; Version=sde.DEFAULT</linkage>
<protocol Sync="TRUE">ArcSDE Connection</protocol>
</itemLocation>
<nativeExtBox>
<westBL Sync="TRUE">457532.044200</westBL>
<eastBL Sync="TRUE">820349.769779</eastBL>
<southBL Sync="TRUE">5527350.918208</southBL>
<northBL Sync="TRUE">5765090.736700</northBL>
<exTypeCode Sync="TRUE">1</exTypeCode>
</nativeExtBox>
</itemProps>
<coordRef>
<type Sync="TRUE">Projected</type>
<geogcsn Sync="TRUE">GCS_North_American_1983</geogcsn>
<csUnits Sync="TRUE">Linear Unit: Meter (1.000000)</csUnits>
<projcsn Sync="TRUE">NAD_1983_10TM_AEP_Forest</projcsn>
<peXml Sync="TRUE">&lt;ProjectedCoordinateSystem xsi:type='typens:ProjectedCoordinateSystem' xmlns:xsi='http://www.w3.org/2001/XMLSchema-instance' xmlns:xs='http://www.w3.org/2001/XMLSchema' xmlns:typens='http://www.esri.com/schemas/ArcGIS/10.7'&gt;&lt;WKT&gt;PROJCS[&amp;quot;NAD_1983_10TM_AEP_Forest&amp;quot;,GEOGCS[&amp;quot;GCS_North_American_1983&amp;quot;,DATUM[&amp;quot;D_North_American_1983&amp;quot;,SPHEROID[&amp;quot;GRS_1980&amp;quot;,6378137.0,298.257222101]],PRIMEM[&amp;quot;Greenwich&amp;quot;,0.0],UNIT[&amp;quot;Degree&amp;quot;,0.0174532925199433]],PROJECTION[&amp;quot;Transverse_Mercator&amp;quot;],PARAMETER[&amp;quot;False_Easting&amp;quot;,500000.0],PARAMETER[&amp;quot;False_Northing&amp;quot;,0.0],PARAMETER[&amp;quot;Central_Meridian&amp;quot;,-115.0],PARAMETER[&amp;quot;Scale_Factor&amp;quot;,0.9992],PARAMETER[&amp;quot;Latitude_Of_Origin&amp;quot;,0.0],UNIT[&amp;quot;Meter&amp;quot;,1.0],AUTHORITY[&amp;quot;EPSG&amp;quot;,3400]]&lt;/WKT&gt;&lt;XOrigin&gt;-5118700&lt;/XOrigin&gt;&lt;YOrigin&gt;-9994100&lt;/YOrigin&gt;&lt;XYScale&gt;450625831.97791648&lt;/XYScale&gt;&lt;ZOrigin&gt;-100000&lt;/ZOrigin&gt;&lt;ZScale&gt;10000&lt;/ZScale&gt;&lt;MOrigin&gt;-100000&lt;/MOrigin&gt;&lt;MScale&gt;10000&lt;/MScale&gt;&lt;XYTolerance&gt;0.001&lt;/XYTolerance&gt;&lt;ZTolerance&gt;0.001&lt;/ZTolerance&gt;&lt;MTolerance&gt;0.001&lt;/MTolerance&gt;&lt;HighPrecision&gt;true&lt;/HighPrecision&gt;&lt;WKID&gt;102184&lt;/WKID&gt;&lt;LatestWKID&gt;3400&lt;/LatestWKID&gt;&lt;/ProjectedCoordinateSystem&gt;</peXml>
</coordRef>
<RasterProperties>
<General>
<PixelDepth Sync="TRUE">8</PixelDepth>
<HasColormap Sync="TRUE">FALSE</HasColormap>
<CompressionType Sync="TRUE">None</CompressionType>
<NumBands Sync="TRUE">3</NumBands>
<Format Sync="TRUE">AMD</Format>
<HasPyramids Sync="TRUE">TRUE</HasPyramids>
<SourceType Sync="TRUE">continuous</SourceType>
<PixelType Sync="TRUE">unsigned integer</PixelType>
<NoDataValue Sync="TRUE">256</NoDataValue>
</General>
<Properties>
<MaxImageHeight Sync="TRUE">4100</MaxImageHeight>
<MaxImageWidth Sync="TRUE">15000</MaxImageWidth>
<MaxRecordCount Sync="TRUE">1000</MaxRecordCount>
<MaxDownloadImageCount Sync="TRUE">0</MaxDownloadImageCount>
<MaxMosaicImageCount Sync="TRUE">25</MaxMosaicImageCount>
<DefaultCompressionQuality Sync="TRUE">75</DefaultCompressionQuality>
<ViewpointSpacingX Sync="TRUE">600</ViewpointSpacingX>
<ViewpointSpacingY Sync="TRUE">300</ViewpointSpacingY>
<AllowedItemMetadata Sync="TRUE">Full</AllowedItemMetadata>
<DefaultResamplingMethod Sync="TRUE">1</DefaultResamplingMethod>
<AllowedMosaicMethods Sync="TRUE">Center,NorthWest,LockRaster,ByAttribute,Nadir,Viewpoint,Seamline,None</AllowedMosaicMethods>
<AllowedCompressions Sync="TRUE">JPEG,None,LZ77</AllowedCompressions>
<AvailableMosaicMethods Sync="TRUE">NorthWest,Center,LockRaster,ByAttribute,Nadir,Viewpoint,Seamline,None</AvailableMosaicMethods>
<AvailableCompressionMethods Sync="TRUE">None,JPEG,LZ77,LERC</AvailableCompressionMethods>
<AvailableItemMetadataLevels Sync="TRUE">None,Basic,Full</AvailableItemMetadataLevels>
<ConfigKeyword Sync="TRUE"/>
<AllowedFields Sync="TRUE">Name,MinPS,MaxPS,LowPS,HighPS,Tag,GroupName,ProductName,CenterX,CenterY,ZOrder,SOrder,StereoID,Shape_Length,Shape_Area,Thumbnail</AllowedFields>
<ApplyColorCorrection Sync="TRUE">0</ApplyColorCorrection>
<TimeValueFormat Sync="TRUE"/>
<EndTimeFieldName Sync="TRUE"/>
<StartTimeFieldName Sync="TRUE"/>
<TimeIntervalUnits Sync="TRUE"/>
<TimeInterval Sync="TRUE"/>
<VerticalDimension Sync="TRUE"/>
<FlowDirection Sync="TRUE"/>
<MaxDownloadSizeLimit Sync="TRUE">0</MaxDownloadSizeLimit>
<MinimumPixelContribution Sync="TRUE">1</MinimumPixelContribution>
<CellSizeTolerance Sync="TRUE">0.8</CellSizeTolerance>
<BlendWidth Sync="TRUE">10</BlendWidth>
<MosaicOperator Sync="TRUE">1</MosaicOperator>
<BlendWidthUnits Sync="TRUE">1</BlendWidthUnits>
<UseTime Sync="TRUE">0</UseTime>
<SortAscending Sync="TRUE">-1</SortAscending>
<ClipToFootprint Sync="TRUE">-1</ClipToFootprint>
<FootprintMayContainNoData Sync="TRUE">-1</FootprintMayContainNoData>
<ClipToBoundary Sync="TRUE">0</ClipToBoundary>
<DefaultCompressionTolerance Sync="TRUE">0.01</DefaultCompressionTolerance>
<SortField Sync="TRUE">MinPS</SortField>
<SortValue Sync="TRUE">0</SortValue>
<LowCellSize Sync="TRUE">0.13880996</LowCellSize>
<HighCellSize Sync="TRUE">1312.2</HighCellSize>
<MaxCellSize Sync="TRUE">65610</MaxCellSize>
<TimeStamp.RemoveItems Sync="TRUE">42965.9112788079</TimeStamp.RemoveItems>
<TimeStamp.UpdateExtent Sync="TRUE">42965.9113463426</TimeStamp.UpdateExtent>
<AllowedMensurationCapabilities Sync="TRUE">None</AllowedMensurationCapabilities>
<_docversion_ Sync="TRUE">9</_docversion_>
</Properties>
<Functions Sync="TRUE">
<Function Description="Creates NoData by defining a range of pixel values. Any values outside the range will be returned as NoData." Name="Mask Function">
<Arguments>
<Raster>MaskFunction.OutputRaster</Raster>
<NoDataValues>0 0 0</NoDataValues>
<IncludedRanges>0.000000 -1.000000 0.000000 -1.000000 0.000000 -1.000000</IncludedRanges>
</Arguments>
</Function>
<Function Description="Creates NoData by defining a range of pixel values. Any values outside the range will be returned as NoData." Name="Mask Function">
<Arguments>
<Raster>MosaicFunction.OutputRaster</Raster>
<NoDataValues>255 255 255</NoDataValues>
<IncludedRanges>0.000000 -1.000000 0.000000 -1.000000 0.000000 -1.000000</IncludedRanges>
</Arguments>
</Function>
<Function Description="Perform on-the-fly mosaic on a raster catalog." Name="Mosaic Function"/>
</Functions>
</RasterProperties>
</DataProperties>
<ModDate>20210706</ModDate>
<ModTime>11293200</ModTime>
<SyncDate>20210706</SyncDate>
<SyncTime>11293200</SyncTime>
<ArcGISProfile>ItemDescription</ArcGISProfile>
<scaleRange>
<minScale>150000000</minScale>
<maxScale>5000</maxScale>
</scaleRange>
</Esri>
<dataIdInfo>
<idPurp>The 2013 Orthorectified Colour Aerial Photography -Southern Alberta Flood (June 2013) was acquired by the Government of Alberta in support of flood relief and planning.</idPurp>
<idAbs>The 2013 Orthorectified Colour Aerial Photography -Southern Alberta Flood (June 2013) was acquired by the Government of Alberta in support of flood relief and planning.</idAbs>
<idCredit>Imagery: Copyright Government of Alberta 2013 / Image Service: Informatics Branch, Corporate Services Division, Alberta Environment and Sustainable Resource Development, Government of Alberta</idCredit>
<idCitation>
<resTitle>ortho_rgb_flood_southern_alberta_2013</resTitle>
<presForm>
<PresFormCd Sync="TRUE" value="005"/>
</presForm>
</idCitation>
<searchKeys>
<keyword>imageryBaseMapsEarthCover</keyword>
<keyword>raster</keyword>
<keyword>orthophoto</keyword>
<keyword>orthorectified</keyword>
<keyword>ortho</keyword>
<keyword>mosaic</keyword>
<keyword>geotiff</keyword>
<keyword>tif</keyword>
<keyword>RGB</keyword>
<keyword>RGBN</keyword>
<keyword>colour</keyword>
<keyword>Alberta</keyword>
<keyword>Canada</keyword>
<keyword>High</keyword>
<keyword>River</keyword>
<keyword>Highwood</keyword>
<keyword>River</keyword>
<keyword>Bow</keyword>
<keyword>River</keyword>
<keyword>Elbow</keyword>
<keyword>River</keyword>
<keyword>Sheep</keyword>
<keyword>River</keyword>
<keyword>South</keyword>
<keyword>Saskatchewan</keyword>
<keyword>River</keyword>
<keyword>Red</keyword>
<keyword>Deer</keyword>
<keyword>River</keyword>
<keyword>Calgary</keyword>
<keyword>Sundre</keyword>
<keyword>Banff</keyword>
<keyword>Cochrane</keyword>
<keyword>Okotoks</keyword>
<keyword>Black</keyword>
<keyword>Diamond</keyword>
<keyword>Turner</keyword>
<keyword>Valley</keyword>
<keyword>Medicine</keyword>
<keyword>Hat</keyword>
<keyword>aerial</keyword>
<keyword>phography</keyword>
<keyword>imagery</keyword>
<keyword>remote</keyword>
<keyword>sensing</keyword>
<keyword>2013</keyword>
<keyword>flood</keyword>
</searchKeys>
<resConst>
<Consts>
<useLimit>None</useLimit>
</Consts>
</resConst>
<envirDesc Sync="TRUE"> Version 6.2 (Build 9200) ; Esri ArcGIS 10.7.1.11595</envirDesc>
<dataLang>
<languageCode Sync="TRUE" value="eng"/>
<countryCode Sync="TRUE" value="USA"/>
</dataLang>
<spatRpType>
<SpatRepTypCd Sync="TRUE" value="002"/>
</spatRpType>
<dataExt>
<geoEle>
<GeoBndBox esriExtentType="search">
<exTypeCode Sync="TRUE">1</exTypeCode>
<westBL Sync="TRUE">-115.619629</westBL>
<eastBL Sync="TRUE">-110.334176</eastBL>
<northBL Sync="TRUE">52.057186</northBL>
<southBL Sync="TRUE">49.832697</southBL>
</GeoBndBox>
</geoEle>
</dataExt>
</dataIdInfo>
<spatRepInfo>
<Georect>
<axisDimension type="002">
<dimSize Sync="TRUE">2613773</dimSize>
<dimResol>
<value Sync="TRUE" uom="m">0.138810</value>
</dimResol>
</axisDimension>
<axisDimension type="001">
<dimSize Sync="TRUE">1712700</dimSize>
<dimResol>
<value Sync="TRUE" uom="m">0.138810</value>
</dimResol>
</axisDimension>
<cellGeo>
<CellGeoCd Sync="TRUE" value="002"/>
</cellGeo>
<numDims Sync="TRUE">2</numDims>
<tranParaAv Sync="TRUE">1</tranParaAv>
<chkPtAv Sync="TRUE">0</chkPtAv>
<cornerPts>
<pos Sync="TRUE">457532.044200 5527350.918208</pos>
</cornerPts>
<cornerPts>
<pos Sync="TRUE">457532.044200 5765090.736700</pos>
</cornerPts>
<cornerPts>
<pos Sync="TRUE">820349.769779 5765090.736700</pos>
</cornerPts>
<cornerPts>
<pos Sync="TRUE">820349.769779 5527350.918208</pos>
</cornerPts>
<centerPt>
<pos Sync="TRUE">638940.906990 5646220.827454</pos>
</centerPt>
<ptInPixel>
<PixOrientCd Sync="TRUE" value="001"/>
</ptInPixel>
</Georect>
</spatRepInfo>
<contInfo>
<ImgDesc>
<covDim>
<Band>
<valUnit>
<UOM type="length">
<unitSymbol Sync="TRUE">Meter</unitSymbol>
</UOM>
</valUnit>
<dimDescrp Sync="TRUE">Band_1</dimDescrp>
<maxVal Sync="TRUE">253.000000</maxVal>
<minVal Sync="TRUE">0.000000</minVal>
<bitsPerVal Sync="TRUE">8</bitsPerVal>
</Band>
<Band>
<valUnit>
<UOM type="length">
<unitSymbol Sync="TRUE">Meter</unitSymbol>
</UOM>
</valUnit>
<dimDescrp Sync="TRUE">Band_2</dimDescrp>
<maxVal Sync="TRUE">254.000000</maxVal>
<minVal Sync="TRUE">0.000000</minVal>
<bitsPerVal Sync="TRUE">8</bitsPerVal>
</Band>
<Band>
<valUnit>
<UOM type="length">
<unitSymbol Sync="TRUE">Meter</unitSymbol>
</UOM>
</valUnit>
<dimDescrp Sync="TRUE">Band_3</dimDescrp>
<maxVal Sync="TRUE">250.000000</maxVal>
<minVal Sync="TRUE">0.000000</minVal>
<bitsPerVal Sync="TRUE">8</bitsPerVal>
</Band>
</covDim>
<contentTyp>
<ContentTypCd Sync="TRUE" value="001"/>
</contentTyp>
</ImgDesc>
</contInfo>
<mdLang>
<languageCode Sync="TRUE" value="eng"/>
<countryCode Sync="TRUE" value="USA"/>
</mdLang>
<refSysInfo>
<RefSystem>
<refSysID>
<identCode Sync="TRUE" code="3400"/>
<idCodeSpace Sync="TRUE">EPSG</idCodeSpace>
<idVersion Sync="TRUE">6.11(9.3.0.0)</idVersion>
</refSysID>
</RefSystem>
</refSysInfo>
<mdDateSt Sync="TRUE">20210706</mdDateSt>
<mdHrLv>
<ScopeCd value="005"/>
</mdHrLv>
</metadata>
