{
 "currentVersion": 11.3,
 "serviceDescription": "The 2013 Orthorectified Colour Aerial Photography -Southern Alberta Flood (June 2013) was acquired by the Government of Alberta in support of flood relief and planning.",
 "name": "imagery/ortho_rgb_flood_southern_alberta_2013",
 "description": "The 2013 Orthorectified Colour Aerial Photography -Southern Alberta Flood (June 2013) was acquired by the Government of Alberta in support of flood relief and planning.",
 "extent": {
  "xmin": 457532.04420000035,
  "ymin": 5527350.918208,
  "xmax": 820349.7697790803,
  "ymax": 5765090.7367,
  "spatialReference": {
   "wkid": 102184,
   "latestWkid": 3400
  }
 },
 "initialExtent": {
  "xmin": 457532.04420000035,
  "ymin": 5527350.918208,
  "xmax": 820349.7697790803,
  "ymax": 5765090.7367,
  "spatialReference": {
   "wkid": 102184,
   "latestWkid": 3400
  }
 },
 "fullExtent": {
  "xmin": 457532.04420000035,
  "ymin": 5527350.918208,
  "xmax": 820349.7697790803,
  "ymax": 5765090.7367,
  "spatialReference": {
   "wkid": 102184,
   "latestWkid": 3400
  }
 },
 "sortableFields": "",
 "bandCount": 3,
 "pixelType": "U8",
 "minValues": [
  0,
  0,
  0
 ],
 "maxValues": [
  253,
  254,
  250
 ],
 "meanValues": [
  79.7677545391864,
  88.28242549605454,
  74.88542863709492
 ],
 "stdvValues": [
  53.00198826675027,
  53.56220150680342,
  45.85210451121931
 ],
 "hasMultidimensions": false,
 "pixelSizeX": 0.13880995999999998,
 "pixelSizeY": 0.13880995999999998,
 "meanPixelSize": 0.13880995999999998,
 "datasetFormat": "AMD",
 "uncompressedSize": 13429827051300,
 "blockWidth": 2048,
 "blockHeight": 256,
 "compressionType": "None",
 "bandNames": [
  "Band_1",
  "Band_2",
  "Band_3"
 ],
 "allowCopy": true,
 "allowAnalysis": true,
 "itemAccess": false,
 "inspectionCapabilities": "",
 "noDataValue": 256,
 "noDataValues": [
  256,
  256,
  256
 ],
 "minPixelSize": 0,
 "maxPixelSize": 0,
 "copyrightText": "Imagery: Copyright Government of Alberta 2013 / Image Service: Informatics Branch, Corporate Services Division, Alberta Environment and Sustainable Resource Development, Government of Alberta",
 "serviceDataType": "esriImageServiceDataTypeRGB",
 "serviceSourceType": "esriImageServiceSourceTypeMosaicDataset",
 "objectIdField": "OBJECTID",
 "fields": [
  {
   "name": "OBJECTID",
   "type": "esriFieldTypeOID",
   "alias": "OBJECTID",
   "domain": null
  },
  {
   "name": "Name",
   "type": "esriFieldTypeString",
   "alias": "Name",
   "domain": null,
   "length": 50
  },
  {
   "name": "MinPS",
   "type": "esriFieldTypeDouble",
   "alias": "MinPS",
   "domain": null
  },
  {
   "name": "MaxPS",
   "type": "esriFieldTypeDouble",
   "alias": "MaxPS",
   "domain": null
  },
  {
   "name": "LowPS",
   "type": "esriFieldTypeDouble",
   "alias": "LowPS",
   "domain": null
  },
  {
   "name": "HighPS",
   "type": "esriFieldTypeDouble",
   "alias": "HighPS",
   "domain": null
  },
  {
   "name": "Category",
   "type": "esriFieldTypeInteger",
   "alias": "Category",
   "domain": null
  },
  {
   "name": "Tag",
   "type": "esriFieldTypeString",
   "alias": "Tag",
   "domain": null,
   "length": 20
  },
  {
   "name": "GroupName",
   "type": "esriFieldTypeString",
   "alias": "GroupName",
   "domain": null,
   "length": 50
  },
  {
   "name": "ProductName",
   "type": "esriFieldTypeString",
   "alias": "ProductName",
   "domain": null,
   "length": 50
  },
  {
   "name": "CenterX",
   "type": "esriFieldTypeDouble",
   "alias": "CenterX",
   "domain": null
  },
  {
   "name": "CenterY",
   "type": "esriFieldTypeDouble",
   "alias": "CenterY",
   "domain": null
  },
  {
   "name": "ZOrder",
   "type": "esriFieldTypeInteger",
   "alias": "ZOrder",
   "domain": null
  },
  {
   "name": "SOrder",
   "type": "esriFieldTypeInteger",
   "alias": "SOrder",
   "domain": null
  },
  {
   "name": "StereoID",
   "type": "esriFieldTypeString",
   "alias": "StereoID",
   "domain": null,
   "length": 50
  },
  {
   "name": "Shape",
   "type": "esriFieldTypeGeometry",
   "alias": "Shape",
   "domain": null
  }
 ],
 "capabilities": "Image,Metadata,Catalog",
 "defaultMosaicMethod": "Center",
 "allowedMosaicMethods": "Center,NorthWest,LockRaster,ByAttribute,Nadir,Viewpoint,Seamline,None",
 "sortField": "",
 "sortValue": null,
 "sortAscending": true,
 "mosaicOperator": "First",
 "maxDownloadSizeLimit": 0,
 "defaultCompressionQuality": 75,
 "defaultResamplingMethod": "Bilinear",
 "maxImageHeight": 4100,
 "maxImageWidth": 15000,
 "maxRecordCount": 1000,
 "maxDownloadImageCount": 0,
 "maxMosaicImageCount": 25,
 "allowRasterFunction": true,
 "rasterFunctionInfos": [
  {
   "name": "None",
   "description": "",
   "help": ""
  }
 ],
 "rasterTypeInfos": [
  {
   "name": "Raster Dataset",
   "description": "Supports all ArcGIS Raster Datasets",
   "help": ""
  }
 ],
 "mensurationCapabilities": "None",
 "hasHistograms": true,
 "hasColormap": false,
 "hasRasterAttributeTable": false,
 "minScale": 0,
 "maxScale": 0,
 "exportTilesAllowed": false,
 "supportsStatistics": true,
 "supportsAdvancedQueries": true,
 "editFieldsInfo": null,
 "ownershipBasedAccessControlForRasters": null,
 "allowComputeTiePoints": false,
 "useStandardizedQueries": true,
 "advancedQueryCapabilities": {
  "useStandardizedQueries": true,
  "supportsStatistics": true,
  "supportsOrderBy": true,
  "supportsDistinct": true,
  "supportsPagination": true
 },
 "spatialReference": {
  "wkid": 102184,
  "latestWkid": 3400
 }
}
