View In:
ArcGIS JavaScript
ArcGIS Online Map Viewer
ArcGIS Earth
Service Description: Hydrogeology_Processed/isopachs_lamonttill
Name: Hydrogeology_Processed/isopachs_lamonttill
Description:
Single Fused Map Cache: false
Extent:
XMin: 620197.7779740947
YMin: 5915960.588315894
XMax: 664097.7779740947
YMax: 5934060.588315894
Spatial Reference: 0
(0)
LatestVCSWkid(0)
Initial Extent:
XMin: 620197.7779740947
YMin: 5915960.588315894
XMax: 664097.7779740947
YMax: 5934060.588315894
Spatial Reference: 0
(0)
LatestVCSWkid(0)
Full Extent:
XMin: 620197.7779740947
YMin: 5915960.588315894
XMax: 664097.7779740947
YMax: 5934060.588315894
Spatial Reference: 0
(0)
LatestVCSWkid(0)
Pixel Size X: 100.0
Pixel Size Y: 100.0
Band Count: 1
Pixel Type: F32
RasterFunction Infos: {"rasterFunctionInfos": [{
"name": "None",
"description": "",
"help": ""
}]}
Mensuration Capabilities: Basic
Inspection Capabilities:
Has Histograms: true
Has Colormap: false
Has Multi Dimensions : false
Rendering Rule:
Min Scale: 0
Max Scale: 0
Copyright Text:
Service Data Type: esriImageServiceDataTypeGeneric
Min Values: 0.0010474877199158072
Max Values: 30.13214683532715
Mean Values: 10.23449492973188
Standard Deviation Values: 5.320079765788026
Object ID Field:
Fields:
None
Default Mosaic Method: Center
Allowed Mosaic Methods:
SortField:
SortValue: null
Mosaic Operator: First
Default Compression Quality: 75
Default Resampling Method: Bilinear
Max Record Count: null
Max Image Height: 4100
Max Image Width: 15000
Max Download Image Count: null
Max Mosaic Image Count: null
Allow Raster Function: true
Allow Copy: true
Allow Analysis: true
Allow Compute TiePoints: false
Supports Statistics: false
Supports Advanced Queries: false
Use StandardizedQueries: true
Raster Type Infos:
Name: Raster Dataset
Description: Supports all ArcGIS Raster Datasets
Help:
Has Raster Attribute Table: false
Edit Fields Info: null
Ownership Based AccessControl For Rasters: null
Child Resources:
Info
Histograms
Statistics
Key Properties
Legend
Raster Function Infos
Supported Operations:
Export Image
Identify
Measure
Compute Histograms
Compute Statistics Histograms
Get Samples
Compute Class Statistics
Query Boundary
Compute Pixel Location
Compute Angles
Validate
Project