View In:
ArcGIS JavaScript
ArcGIS Online Map Viewer
ArcGIS Earth
Service Description: The Designated Industrial Zone project taking place in Alberta's Industrial Heartland, supports a Government commitment to work with Municipalities and Industry to enhance regulatory efficiency across the lifecycle of approvals, optimize cluster infrastructure, while achieving environmental outcomes.
The primary aims of the IH-DIZ study are:
To establish baseline conditions for valued components (VCs)
Reduce time and effort necessary to fulfill project-specific requirements for discretionary and mandatory EIAs for new applications
Create regulatory efficiency benefits through collecting and sharing important baseline information to support the development and review of provincial environmental impact assessments, and review of regulatory applications, in the IH-DIZ.
Name: Hydrogeology_Processed/topography_mosaic_dem_nts_20k
Description: The Designated Industrial Zone project taking place in Alberta's Industrial Heartland, supports a Government commitment to work with Municipalities and Industry to enhance regulatory efficiency across the lifecycle of approvals, optimize cluster infrastructure, while achieving environmental outcomes.
The primary aims of the IH-DIZ study are:
To establish baseline conditions for valued components (VCs)
Reduce time and effort necessary to fulfill project-specific requirements for discretionary and mandatory EIAs for new applications
Create regulatory efficiency benefits through collecting and sharing important baseline information to support the development and review of provincial environmental impact assessments, and review of regulatory applications, in the IH-DIZ.
Single Fused Map Cache: false
Extent:
XMin: 515653.2570965309
YMin: 5858945.736751907
XMax: 760067.9761101238
YMax: 6056634.652844767
Spatial Reference: 102184
(3400)
LatestVCSWkid(0)
Initial Extent:
XMin: 515653.2570965309
YMin: 5858945.736751907
XMax: 760067.9761101238
YMax: 6056634.652844767
Spatial Reference: 102184
(3400)
LatestVCSWkid(0)
Full Extent:
XMin: 515653.2570965309
YMin: 5858945.736751907
XMax: 760067.9761101238
YMax: 6056634.652844767
Spatial Reference: 102184
(3400)
LatestVCSWkid(0)
Pixel Size X: 18.374283492226198
Pixel Size Y: 18.37428349222609
Band Count: 1
Pixel Type: F32
RasterFunction Infos: {"rasterFunctionInfos": [{
"name": "None",
"description": "",
"help": ""
}]}
Mensuration Capabilities: Basic
Inspection Capabilities:
Has Histograms: true
Has Colormap: false
Has Multi Dimensions : false
Rendering Rule:
Min Scale: 0
Max Scale: 0
Copyright Text: Data collected by Stantec Consulting Ltd.
Service Data Type: esriImageServiceDataTypeGeneric
Min Values: 564
Max Values: 789
Mean Values: 673.341318053144
Standard Deviation Values: 37.683573181464155
Object ID Field:
Fields:
None
Default Mosaic Method: Center
Allowed Mosaic Methods:
SortField:
SortValue: null
Mosaic Operator: First
Default Compression Quality: 75
Default Resampling Method: Bilinear
Max Record Count: null
Max Image Height: 4100
Max Image Width: 15000
Max Download Image Count: null
Max Mosaic Image Count: null
Allow Raster Function: true
Allow Copy: true
Allow Analysis: true
Allow Compute TiePoints: false
Supports Statistics: false
Supports Advanced Queries: false
Use StandardizedQueries: true
Raster Type Infos:
Name: Raster Dataset
Description: Supports all ArcGIS Raster Datasets
Help:
Has Raster Attribute Table: false
Edit Fields Info: null
Ownership Based AccessControl For Rasters: null
Child Resources:
Info
Histograms
Statistics
Key Properties
Legend
Raster Function Infos
Supported Operations:
Export Image
Identify
Measure
Compute Histograms
Compute Statistics Histograms
Get Samples
Compute Class Statistics
Query Boundary
Compute Pixel Location
Compute Angles
Validate
Project