View In:
ArcGIS JavaScript
ArcGIS Online Map Viewer
ArcGIS Earth
Service Description: The 2013 Orthorectified 15cm RGB Aerial Photography - High River (July 17, 2013) was acquired by the Government of Alberta in support of flood relief and planning.
Name: imagery/ortho_rgb_high_river_15cm_2013
Description: The 2013 Orthorectified 15cm RGB Aerial Photography - High River (July 17, 2013) was acquired by the Government of Alberta in support of flood relief and planning.
Single Fused Map Cache: false
Extent:
XMin: 570219.2821290283
YMin: 5597228.23067028
XMax: 584543.6821290284
YMax: 5615138.68067028
Spatial Reference: 102184
(3400)
LatestVCSWkid(0)
Initial Extent:
XMin: 570219.2821290283
YMin: 5597228.23067028
XMax: 584543.6821290284
YMax: 5615138.68067028
Spatial Reference: 102184
(3400)
LatestVCSWkid(0)
Full Extent:
XMin: 570219.2821290283
YMin: 5597228.23067028
XMax: 584543.6821290284
YMax: 5615138.68067028
Spatial Reference: 102184
(3400)
LatestVCSWkid(0)
Pixel Size X: 0.15000000000000024
Pixel Size Y: 0.15000000000000155
Band Count: 3
Pixel Type: U8
RasterFunction Infos: {"rasterFunctionInfos": [{
"name": "None",
"description": "",
"help": ""
}]}
Mensuration Capabilities:
Inspection Capabilities:
Has Histograms: true
Has Colormap: false
Has Multi Dimensions : false
Rendering Rule:
Min Scale: 0
Max Scale: 0
Copyright Text: Imagery: Copyright Government of Alberta / Image Service: Informatics Branch, Corporate Services Division, Alberta Environment and Sustainable Resource Development, Government of Alberta
Service Data Type: esriImageServiceDataTypeRGB
Min Values: 0, 7, 15
Max Values: 255, 255, 255
Mean Values: 118.23385509691876, 119.82260296106801, 109.16019993304604
Standard Deviation Values: 78.43970102112169, 74.14355548788257, 78.28753702582387
Object ID Field: OBJECTID
Fields:
-
OBJECTID
(
type: esriFieldTypeOID, alias: OBJECTID
)
-
Name
(
type: esriFieldTypeString, alias: Name, length: 50
)
-
MinPS
(
type: esriFieldTypeDouble, alias: MinPS
)
-
MaxPS
(
type: esriFieldTypeDouble, alias: MaxPS
)
-
LowPS
(
type: esriFieldTypeDouble, alias: LowPS
)
-
HighPS
(
type: esriFieldTypeDouble, alias: HighPS
)
-
Category
(
type: esriFieldTypeInteger, alias: Category
)
-
Tag
(
type: esriFieldTypeString, alias: Tag, length: 20
)
-
GroupName
(
type: esriFieldTypeString, alias: GroupName, length: 50
)
-
ProductName
(
type: esriFieldTypeString, alias: ProductName, length: 50
)
-
CenterX
(
type: esriFieldTypeDouble, alias: CenterX
)
-
CenterY
(
type: esriFieldTypeDouble, alias: CenterY
)
-
ZOrder
(
type: esriFieldTypeInteger, alias: ZOrder
)
-
SOrder
(
type: esriFieldTypeInteger, alias: SOrder
)
-
StereoID
(
type: esriFieldTypeString, alias: StereoID, length: 50
)
-
Shape
(
type: esriFieldTypeGeometry, alias: Shape
)
Default Mosaic Method: Center
Allowed Mosaic Methods: Center,NorthWest,LockRaster,ByAttribute,Nadir,Viewpoint,Seamline,None
SortField:
SortValue: null
Mosaic Operator: First
Default Compression Quality: 75
Default Resampling Method: Bilinear
Max Record Count: 1000
Max Image Height: 4100
Max Image Width: 15000
Max Download Image Count: 0
Max Mosaic Image Count: 25
Allow Raster Function: true
Allow Copy: true
Allow Analysis: true
Allow Compute TiePoints: false
Supports Statistics: true
Supports Advanced Queries: true
Use StandardizedQueries: true
Raster Type Infos:
Name: Raster Dataset
Description: Supports all ArcGIS Raster Datasets
Help:
Has Raster Attribute Table: false
Edit Fields Info: null
Ownership Based AccessControl For Rasters: null
Child Resources:
Info
Histograms
Statistics
Key Properties
Legend
Raster Function Infos
Supported Operations:
Export Image
Query
Identify
Compute Histograms
Compute Statistics Histograms
Get Samples
Compute Class Statistics
Query GPS Info
Find Images
Image to Map
Map to Image
Measure from Image
Image to Map Multiray
Query Boundary
Compute Pixel Location
Compute Angles
Validate
Project