View In:
ArcGIS JavaScript
ArcGIS Online Map Viewer
ArcGIS Earth
Service Description: The 2013 Orthorectified Colour Aerial Photography - Southern Alberta Post-Flood (Summer 2013) was acquired by the Government of Alberta in support of flood recovery and mitigation.
Name: imagery/ortho_rgb_post_flood_southern_alberta_2013
Description: The 2013 Orthorectified Colour Aerial Photography - Southern Alberta Post-Flood (Summer 2013) was acquired by the Government of Alberta in support of flood recovery and mitigation.
Single Fused Map Cache: false
Extent:
XMin: 462108.60003066005
YMin: 5484082.00090475
XMax: 815595.7982632241
YMax: 5770515.199472584
Spatial Reference: 102184
(3400)
LatestVCSWkid(0)
Initial Extent:
XMin: 462108.60003066005
YMin: 5484082.00090475
XMax: 815595.7982632241
YMax: 5770515.199472584
Spatial Reference: 102184
(3400)
LatestVCSWkid(0)
Full Extent:
XMin: 462108.60003066005
YMin: 5484082.00090475
XMax: 815595.7982632241
YMax: 5770515.199472584
Spatial Reference: 102184
(3400)
LatestVCSWkid(0)
Pixel Size X: 0.199999999
Pixel Size Y: 0.19999999899999982
Band Count: 3
Pixel Type: U8
RasterFunction Infos: {"rasterFunctionInfos": [{
"name": "None",
"description": "A No-Op Function.",
"help": ""
}]}
Mensuration Capabilities:
Inspection Capabilities:
Has Histograms: true
Has Colormap: false
Has Multi Dimensions : false
Rendering Rule:
Min Scale: 0
Max Scale: 0
Copyright Text: Imagery: Copyright Government of Alberta 2013 / Image Service: Informatics Branch, Corporate Services Division, Environment and Sustainable Resource Development, Government of Alberta
Service Data Type: esriImageServiceDataTypeRGB
Min Values: 0, 0, 0
Max Values: 255, 255, 255
Mean Values: 80.82410267461628, 88.0027775782391, 88.07802360941503
Standard Deviation Values: 56.31570539066837, 47.382700972600404, 40.6800036141265
Object ID Field: OBJECTID
Fields:
-
OBJECTID
(
type: esriFieldTypeOID, alias: OBJECTID
)
-
Name
(
type: esriFieldTypeString, alias: Name, length: 50
)
-
MinPS
(
type: esriFieldTypeDouble, alias: MinPS
)
-
MaxPS
(
type: esriFieldTypeDouble, alias: MaxPS
)
-
LowPS
(
type: esriFieldTypeDouble, alias: LowPS
)
-
HighPS
(
type: esriFieldTypeDouble, alias: HighPS
)
-
Category
(
type: esriFieldTypeInteger, alias: Category
)
-
Tag
(
type: esriFieldTypeString, alias: Tag, length: 20
)
-
GroupName
(
type: esriFieldTypeString, alias: GroupName, length: 50
)
-
ProductName
(
type: esriFieldTypeString, alias: ProductName, length: 50
)
-
CenterX
(
type: esriFieldTypeDouble, alias: CenterX
)
-
CenterY
(
type: esriFieldTypeDouble, alias: CenterY
)
-
ZOrder
(
type: esriFieldTypeDouble, alias: ZOrder
)
-
SOrder
(
type: esriFieldTypeDouble, alias: SOrder
)
-
StereoID
(
type: esriFieldTypeString, alias: StereoID, length: 50
)
-
Shape
(
type: esriFieldTypeGeometry, alias: Shape
)
-
Shape.STArea()
(
type: esriFieldTypeDouble, alias: Shape.STArea()
)
-
Shape.STLength()
(
type: esriFieldTypeDouble, alias: Shape.STLength()
)
Default Mosaic Method: Center
Allowed Mosaic Methods: Center,NorthWest,LockRaster,ByAttribute,Nadir,Viewpoint,Seamline,None
SortField:
SortValue: null
Mosaic Operator: First
Default Compression Quality: 75
Default Resampling Method: Bilinear
Max Record Count: 1000
Max Image Height: 4100
Max Image Width: 15000
Max Download Image Count: 0
Max Mosaic Image Count: 25
Allow Raster Function: true
Allow Copy: true
Allow Analysis: true
Allow Compute TiePoints: false
Supports Statistics: true
Supports Advanced Queries: true
Use StandardizedQueries: true
Raster Type Infos:
Name: Raster Dataset
Description: Supports all ArcGIS Raster Datasets
Help:
Has Raster Attribute Table: false
Edit Fields Info: null
Ownership Based AccessControl For Rasters: null
Child Resources:
Info
Histograms
Statistics
Key Properties
Legend
Raster Function Infos
Supported Operations:
Export Image
Query
Identify
Compute Histograms
Compute Statistics Histograms
Get Samples
Compute Class Statistics
Query GPS Info
Find Images
Image to Map
Map to Image
Measure from Image
Image to Map Multiray
Query Boundary
Compute Pixel Location
Compute Angles
Validate
Project