View In:
ArcGIS JavaScript
ArcGIS Online Map Viewer
ArcGIS Earth
Service Description: The 2014 Orthorectified RGBN Aerial Photography collection was acquired by the Government of Alberta in support of natural resource inventory and land-use planning.
Name: imagery/ortho_rgbn_2014
Description: The 2014 Orthorectified RGBN Aerial Photography collection was acquired by the Government of Alberta in support of natural resource inventory and land-use planning.
Single Fused Map Cache: false
Extent:
XMin: 176726.73693797202
YMin: 6022749.678737527
XMax: 548336.550805165
YMax: 6485200.933666366
Spatial Reference: 102184
(3400)
LatestVCSWkid(0)
Initial Extent:
XMin: 176726.73693797202
YMin: 6022749.678737527
XMax: 548336.550805165
YMax: 6485200.933666366
Spatial Reference: 102184
(3400)
LatestVCSWkid(0)
Full Extent:
XMin: 176726.73693797202
YMin: 6022749.678737527
XMax: 548336.550805165
YMax: 6485200.933666366
Spatial Reference: 102184
(3400)
LatestVCSWkid(0)
Pixel Size X: 0.299990889
Pixel Size Y: 0.29999088900000026
Band Count: 4
Pixel Type: U8
RasterFunction Infos: {"rasterFunctionInfos": [{
"name": "None",
"description": "A No-Op Function.",
"help": ""
}]}
Mensuration Capabilities: None
Inspection Capabilities:
Has Histograms: true
Has Colormap: false
Has Multi Dimensions : false
Rendering Rule:
Min Scale: 0
Max Scale: 0
Copyright Text: Government of Alberta
Service Data Type: esriImageServiceDataTypeGeneric
Min Values: 0, 11, 24, 0
Max Values: 255, 255, 255, 255
Mean Values: 112.36528172089976, 119.55505432408823, 114.0763676566936, 177.90363616510155
Standard Deviation Values: 87.92089200914818, 82.83796904109846, 85.55765073821568, 52.37457536535101
Object ID Field: OBJECTID
Fields:
-
OBJECTID
(
type: esriFieldTypeOID, alias: OBJECTID
)
-
Name
(
type: esriFieldTypeString, alias: Name, length: 200
)
-
MinPS
(
type: esriFieldTypeDouble, alias: MinPS
)
-
MaxPS
(
type: esriFieldTypeDouble, alias: MaxPS
)
-
LowPS
(
type: esriFieldTypeDouble, alias: LowPS
)
-
HighPS
(
type: esriFieldTypeDouble, alias: HighPS
)
-
Category
(
type: esriFieldTypeInteger, alias: Category
, Coded Values:
[0: Unknown]
, [1: Primary]
, [2: Overview]
, ...5 more...
)
-
Tag
(
type: esriFieldTypeString, alias: Tag, length: 100
)
-
GroupName
(
type: esriFieldTypeString, alias: GroupName, length: 100
)
-
ProductName
(
type: esriFieldTypeString, alias: ProductName, length: 100
)
-
CenterX
(
type: esriFieldTypeDouble, alias: CenterX
)
-
CenterY
(
type: esriFieldTypeDouble, alias: CenterY
)
-
ZOrder
(
type: esriFieldTypeInteger, alias: ZOrder
)
-
Shape
(
type: esriFieldTypeGeometry, alias: Shape
)
-
Shape.STArea()
(
type: esriFieldTypeDouble, alias: Shape.STArea()
)
-
Shape.STLength()
(
type: esriFieldTypeDouble, alias: Shape.STLength()
)
Default Mosaic Method: Northwest
Allowed Mosaic Methods: NorthWest,Center,LockRaster,ByAttribute,Nadir,Viewpoint,Seamline,None
SortField:
SortValue: null
Mosaic Operator: Min
Default Compression Quality: 75
Default Resampling Method: Bilinear
Max Record Count: 1000
Max Image Height: 4100
Max Image Width: 15000
Max Download Image Count: 0
Max Mosaic Image Count: 20
Allow Raster Function: true
Allow Copy: true
Allow Analysis: true
Allow Compute TiePoints: false
Supports Statistics: true
Supports Advanced Queries: true
Use StandardizedQueries: true
Raster Type Infos:
Name: Raster Dataset
Description: Supports all ArcGIS Raster Datasets
Help:
Has Raster Attribute Table: false
Edit Fields Info: null
Ownership Based AccessControl For Rasters: null
Child Resources:
Info
Histograms
Statistics
Key Properties
Legend
Raster Function Infos
Supported Operations:
Export Image
Query
Identify
Compute Histograms
Compute Statistics Histograms
Get Samples
Compute Class Statistics
Query GPS Info
Find Images
Image to Map
Map to Image
Measure from Image
Image to Map Multiray
Query Boundary
Compute Pixel Location
Compute Angles
Validate
Project