View In:
ArcGIS JavaScript
ArcGIS Online Map Viewer
ArcGIS Earth
Service Description: The Orthorectified RGBN Aerial Photography - Southern Alberta Partnership 2012 collection was acquired by the Government of Alberta in support of natural resource inventory and land-use planning.
Name: imagery/ortho_rgbn_southern_alberta_partnership_50cm_2012
Description: The Orthorectified RGBN Aerial Photography - Southern Alberta Partnership 2012 collection was acquired by the Government of Alberta in support of natural resource inventory and land-use planning.
Single Fused Map Cache: false
Extent:
XMin: 512756.0
YMin: 5425696.5
XMax: 865182.0
YMax: 5681679.0
Spatial Reference: 102184
(3400)
LatestVCSWkid(0)
Initial Extent:
XMin: 512756.0
YMin: 5425696.5
XMax: 865182.0
YMax: 5681679.0
Spatial Reference: 102184
(3400)
LatestVCSWkid(0)
Full Extent:
XMin: 512756.0
YMin: 5425696.5
XMax: 865182.0
YMax: 5681679.0
Spatial Reference: 102184
(3400)
LatestVCSWkid(0)
Pixel Size X: 0.5
Pixel Size Y: 0.5
Band Count: 4
Pixel Type: U8
RasterFunction Infos: {"rasterFunctionInfos": [{
"name": "None",
"description": "",
"help": ""
}]}
Mensuration Capabilities:
Inspection Capabilities:
Has Histograms: true
Has Colormap: false
Has Multi Dimensions : false
Rendering Rule:
Min Scale: 0
Max Scale: 0
Copyright Text: Imagery: Copyright 2012 Southern Alberta Partnership / Image Service: Informatics Branch, Corporate Services Division, Alberta Environment and Sustainable Resource Development, Government of Alberta
Service Data Type: esriImageServiceDataTypeGeneric
Min Values: 0, 1, 0, 0
Max Values: 255, 255, 255, 255
Mean Values: 96.8334007356747, 108.11581010483019, 96.5868710360867, 139.00404552073485
Standard Deviation Values: 49.670266083174084, 43.54187095655839, 44.63177696622111, 42.574263438658626
Object ID Field: OBJECTID
Fields:
-
OBJECTID
(
type: esriFieldTypeOID, alias: OBJECTID
)
-
Name
(
type: esriFieldTypeString, alias: Name, length: 50
)
-
MinPS
(
type: esriFieldTypeDouble, alias: MinPS
)
-
MaxPS
(
type: esriFieldTypeDouble, alias: MaxPS
)
-
LowPS
(
type: esriFieldTypeDouble, alias: LowPS
)
-
HighPS
(
type: esriFieldTypeDouble, alias: HighPS
)
-
Category
(
type: esriFieldTypeInteger, alias: Category
)
-
Tag
(
type: esriFieldTypeString, alias: Tag, length: 20
)
-
GroupName
(
type: esriFieldTypeString, alias: GroupName, length: 50
)
-
ProductName
(
type: esriFieldTypeString, alias: ProductName, length: 50
)
-
CenterX
(
type: esriFieldTypeDouble, alias: CenterX
)
-
CenterY
(
type: esriFieldTypeDouble, alias: CenterY
)
-
ZOrder
(
type: esriFieldTypeInteger, alias: ZOrder
)
-
SOrder
(
type: esriFieldTypeInteger, alias: SOrder
)
-
StereoID
(
type: esriFieldTypeString, alias: StereoID, length: 50
)
-
Shape
(
type: esriFieldTypeGeometry, alias: Shape
)
Default Mosaic Method: Center
Allowed Mosaic Methods: Center,NorthWest,LockRaster,ByAttribute,Nadir,Viewpoint,Seamline,None
SortField:
SortValue: null
Mosaic Operator: First
Default Compression Quality: 75
Default Resampling Method: Bilinear
Max Record Count: 1000
Max Image Height: 4100
Max Image Width: 15000
Max Download Image Count: 0
Max Mosaic Image Count: 25
Allow Raster Function: true
Allow Copy: true
Allow Analysis: true
Allow Compute TiePoints: false
Supports Statistics: true
Supports Advanced Queries: true
Use StandardizedQueries: true
Raster Type Infos:
Name: Raster Dataset
Description: Supports all ArcGIS Raster Datasets
Help:
Has Raster Attribute Table: false
Edit Fields Info: null
Ownership Based AccessControl For Rasters: null
Child Resources:
Info
Histograms
Statistics
Key Properties
Legend
Raster Function Infos
Supported Operations:
Export Image
Query
Identify
Compute Histograms
Compute Statistics Histograms
Get Samples
Compute Class Statistics
Query GPS Info
Find Images
Image to Map
Map to Image
Measure from Image
Image to Map Multiray
Query Boundary
Compute Pixel Location
Compute Angles
Validate
Project